BEGIN:VCALENDAR
VERSION:2.0
PRODID:-//wp-events-plugin.com//7.2.3.1//EN
BEGIN:VEVENT
UID:8087@visitlebanonky.com
DTSTART;TZID=America/Kentucky/Louisville:20251018T110000
DTEND;TZID=America/Kentucky/Louisville:20251018T140000
DTSTAMP:20251008T193820Z
URL:https://visitlebanonky.com/events/feeding-friends/
SUMMARY:Feeding Friends
DESCRIPTION:
ATTACH;FMTTYPE=image/jpeg:https://visitlebanonky.com/wp-content/uploads/20
 25/10/feeding-friends.jpg
CATEGORIES:Community
LOCATION:Gravel Switch Community Center\, 640 Gravel Switch Road\, Gravel S
 witch\, Kentucky\, 40328\, Marion County\, United States
GEO:37.579979;-85.05265
X-APPLE-STRUCTURED-LOCATION;VALUE=URI;X-ADDRESS=640 Gravel Switch Road\, Gr
 avel Switch\, Kentucky\, 40328\, Marion County\, United States;X-APPLE-RAD
 IUS=100;X-TITLE=Gravel Switch Community Center:geo:37.579979,-85.05265
END:VEVENT
BEGIN:VTIMEZONE
TZID:America/Kentucky/Louisville
X-LIC-LOCATION:America/Kentucky/Louisville
BEGIN:DAYLIGHT
DTSTART:20250309T030000
TZOFFSETFROM:-0500
TZOFFSETTO:-0400
TZNAME:EDT
END:DAYLIGHT
END:VTIMEZONE
END:VCALENDAR