BEGIN:VCALENDAR
VERSION:2.0
PRODID:-//wp-events-plugin.com//7.2.3.1//EN
BEGIN:VEVENT
UID:8910@visitlebanonky.com
DTSTART;TZID=America/Kentucky/Louisville:20260314T000000
DTEND;TZID=America/Kentucky/Louisville:20260315T000000
DTSTAMP:20260228T201737Z
URL:https://visitlebanonky.com/events/first-annual-makayla-epps-classic/
SUMMARY:First Annual MaKayla Epps Classic
DESCRIPTION:CENTRAL KENTUCKY ELITE BASKETBAL PRESENTS 1ST ANNUAL MAKAYLA EP
 PS CLASSIC \nThat’s right — join us at the Marion County Event Center 
 & Sportsplex for the 1st Annual Makayla Epps Classic!\n🏀 Makayla Epps w
 ill personally present all MVP awards\, making this a weekend you absolute
 ly do not want to miss!\n⸻\n📣 BIG ANNOUNCEMENT 📣\nCentral KY Elite
  Basketball & Eppsanity Skills will be providing 👀 Makayla Epps gift ba
 gs to the first THREE registered teams in each division!\nBut that’s not
  all…\n🔥 Eppsanity 3-Point Contest\nDivisions: Elementary • Middle 
 School • High School\n(Full details will be sent to coaches the week of 
 the tournament.)\n💰 50/50 Raffles (Saturday & Sunday)\n🏀 Half-Court 
 Shot Contest for Parents at Halftime\n✍🏾 Autographed Makayla Epps mer
 chandise available\n🎁 Plus a few BIG surprises you don’t want to miss
 !\nSpots are filling FAST — secure your team now to qualify for the gift
  bags!\n⸻\n🍽️ Tournament Sponsor: Big Papa’s\nAll players will be
  fed that weekend\, with a paid adult meal option available. Come join us 
 and save big!\n⸻\n📅 March 14–15\n💵 $150 Entry Fee\n🏀 Makayla 
 Epps Classic\n📍 Lebanon\, KY\nLooking for a top-tier tournament to kick
  off your season?\nCentral Kentucky Elite is bringing elite competition\, 
 a professional atmosphere\, and unmatched value.\n⸻\n✅ WHAT TO EXPECT:
 \n✔️ 3 Games Guaranteed (3GG)\n✔️ Certified Officials\n✔️ Adva
 nced Bracket Boards\n✔️ Schedule Requests Accepted\n✔️ State-of-th
 e-Art Facility\n✔️ Individual Awards for Coaches\, Players & MVPs 💎
 \n✔️ On-Site Photography\n✔️ Elite Player Interviews & Write-Ups\n
 ✔️ Multiple Team Discounts\n✔️ Affordable Registration\n✔️ Bes
 t Admission Prices in the State\n⸻\nThis will be THE place for Kentucky 
 programs and surrounding states to showcase their talent.\n👉 Register t
 oday and lock in your spot!\nCentral KY Elite Basketball\n💯 Bringing el
 ite competition & exposure at an affordable price.\n🔥 The road to the G
 rand Finale continues — don’t miss this one! 🔥\nFollow on Facebook 
 HERE for this and other events at the center.
ATTACH;FMTTYPE=image/jpeg:https://visitlebanonky.com/wp-content/uploads/20
 26/02/MAKAYLA-EPPS.jpg
CATEGORIES:Official
LOCATION:Marion County Event Center and Sportsplex\, 101 Independence Drive
  \, LEBANON\, KY\, 40033\, Marion County\, United States
X-APPLE-STRUCTURED-LOCATION;VALUE=URI;X-ADDRESS=101 Independence Drive \, L
 EBANON\, KY\, 40033\, Marion County\, United States;X-APPLE-RADIUS=100;X-T
 ITLE=Marion County Event Center and Sportsplex:geo:0,0
END:VEVENT
BEGIN:VTIMEZONE
TZID:America/Kentucky/Louisville
X-LIC-LOCATION:America/Kentucky/Louisville
BEGIN:DAYLIGHT
DTSTART:20260308T030000
TZOFFSETFROM:-0500
TZOFFSETTO:-0400
TZNAME:EDT
END:DAYLIGHT
END:VTIMEZONE
END:VCALENDAR