BEGIN:VCALENDAR
VERSION:2.0
PRODID:-//wp-events-plugin.com//7.2.3.1//EN
BEGIN:VEVENT
UID:8693@visitlebanonky.com
DTSTART;TZID=America/Kentucky/Louisville:20260208T150000
DTEND;TZID=America/Kentucky/Louisville:20260208T163000
DTSTAMP:20260202T225556Z
URL:https://visitlebanonky.com/events/first-baptist-black-history-program/
SUMMARY:First Baptist Black History Program
DESCRIPTION:All are welcome.  Come enjoy our Black  History Program.  Our g
 uest speaker this year is the delightful President Paula Stone\,  of the  
 South District Women’s  Missionary Association of Kentucky.  She’s als
 o a member of First  Baptist Church of Springfield\, Kentucky. ￼ Please 
 come and be Empowered. Fellowship with our church\, we we dwell on those w
 ho walked in our shoes for freedom justice\, and the Holy Spirit.  ￼Our 
 theme is Honoring the Past\, Embracing the Future Joshua 1:1-9.  Our event
  is Sunday\, February 8\,2026 at 3 p.m. Our church address is First Baptis
 t\,  231 North Depot St.  Lebanon\, Ky. 40033. Follow the church on Facebo
 ok HERE for this and other events.\n
ATTACH;FMTTYPE=image/jpeg:https://visitlebanonky.com/wp-content/uploads/20
 26/02/black-history.jpg
CATEGORIES:Community
LOCATION:First Baptist Church\, 231 North Depot Street\, Lebanon\, Kentucky
 \, 40033\, Marion County\, United States
GEO:37.570111;-85.257862
X-APPLE-STRUCTURED-LOCATION;VALUE=URI;X-ADDRESS=231 North Depot Street\, Le
 banon\, Kentucky\, 40033\, Marion County\, United States;X-APPLE-RADIUS=10
 0;X-TITLE=First Baptist Church:geo:37.570111,-85.257862
END:VEVENT
BEGIN:VTIMEZONE
TZID:America/Kentucky/Louisville
X-LIC-LOCATION:America/Kentucky/Louisville
BEGIN:STANDARD
DTSTART:20251102T010000
TZOFFSETFROM:-0400
TZOFFSETTO:-0500
TZNAME:EST
END:STANDARD
END:VTIMEZONE
END:VCALENDAR