BEGIN:VCALENDAR
VERSION:2.0
PRODID:-//wp-events-plugin.com//7.2.3.1//EN
BEGIN:VEVENT
UID:5982@visitlebanonky.com
DTSTART;TZID=America/Kentucky/Louisville:20240908T110000
DTEND;TZID=America/Kentucky/Louisville:20240908T123000
DTSTAMP:20240810T153303Z
URL:https://visitlebanonky.com/events/first-responder-meal/
SUMMARY:First Responder Meal
DESCRIPTION:Bradfordsville Baptist Church is hosting a community-wide First
  Responders Honor service.  The past few years have been tough on first re
 sponders but we see and hear you and want to honor you with a dedication s
 ervice and meal.  This is open to ALL police\, EMS\, fire departments\, an
 d rescue in Marion County.  Please join us on Sunday\, September 8th\, at 
 11:00 at Bradfordsville Baptist Church\, with a meal following.  We just w
 ant to take an opportunity to say thank you for your service and dedicatio
 n to Marion County!  I have tagged several to help me spread the word and 
 we will also have flyers mailed and available to hang up.  Please see Mich
 elle Purdom on Facebook at https://www.facebook.com/michelle.purdom.3 for 
 a flyer or questions.
ATTACH;FMTTYPE=image/jpeg:https://visitlebanonky.com/wp-content/uploads/20
 24/08/1st-responder-meal.jpg
CATEGORIES:Community
LOCATION:Bradfordsville Baptist Church\, 405 W Main St\, Bradfordsville\, K
 entucky\, 40009\, Marion County\, United States
X-APPLE-STRUCTURED-LOCATION;VALUE=URI;X-ADDRESS=405 W Main St\, Bradfordsvi
 lle\, Kentucky\, 40009\, Marion County\, United States;X-APPLE-RADIUS=100;
 X-TITLE=Bradfordsville Baptist Church:geo:0,0
END:VEVENT
BEGIN:VTIMEZONE
TZID:America/Kentucky/Louisville
X-LIC-LOCATION:America/Kentucky/Louisville
BEGIN:DAYLIGHT
DTSTART:20240310T030000
TZOFFSETFROM:-0500
TZOFFSETTO:-0400
TZNAME:EDT
END:DAYLIGHT
END:VTIMEZONE
END:VCALENDAR