BEGIN:VCALENDAR
VERSION:2.0
PRODID:-//wp-events-plugin.com//7.2.3.1//EN
BEGIN:VEVENT
UID:7573@visitlebanonky.com
DTSTART;TZID=America/Kentucky/Louisville:20250607T100000
DTEND;TZID=America/Kentucky/Louisville:20250607T140000
DTSTAMP:20250507T213908Z
URL:https://visitlebanonky.com/events/fishing-tournament-2/
SUMMARY:Fishing Tournament
DESCRIPTION:Attention all mini fishermen! Marion County Sportsman's Club is
  organizing a fishing tournament on June 7 from 10 a.m. to 2 p.m. Kids age
 s 5-16 can participate. Hourly prizes will be given for the biggest catch.
  Come and join the fishing frenzy. Find this organization on Facebook at h
 ttps://www.facebook.com/MCSportsmansclubKY
ATTACH;FMTTYPE=image/jpeg:https://visitlebanonky.com/wp-content/uploads/20
 25/05/fishing-tournament.jpg
CATEGORIES:Community
LOCATION:Marion County Sportsmans Club\, 716 Sportsmans Lake Road\, Lebanon
 \, Kentucky\, 40033\, Marion County\, United States
GEO:37.51209;-85.24837
X-APPLE-STRUCTURED-LOCATION;VALUE=URI;X-ADDRESS=716 Sportsmans Lake Road\, 
 Lebanon\, Kentucky\, 40033\, Marion County\, United States;X-APPLE-RADIUS=
 100;X-TITLE=Marion County Sportsmans Club:geo:37.51209,-85.24837
END:VEVENT
BEGIN:VTIMEZONE
TZID:America/Kentucky/Louisville
X-LIC-LOCATION:America/Kentucky/Louisville
BEGIN:DAYLIGHT
DTSTART:20250309T030000
TZOFFSETFROM:-0500
TZOFFSETTO:-0400
TZNAME:EDT
END:DAYLIGHT
END:VTIMEZONE
END:VCALENDAR