BEGIN:VCALENDAR
VERSION:2.0
PRODID:-//wp-events-plugin.com//7.2.3.1//EN
BEGIN:VEVENT
UID:6588@visitlebanonky.com
DTSTART;TZID=America/Kentucky/Louisville:20241213T170000
DTEND;TZID=America/Kentucky/Louisville:20241213T193000
DTSTAMP:20241207T030840Z
URL:https://visitlebanonky.com/events/fit-kids-christmas-open-gym/
SUMMARY:Fit Kids Christmas Open Gym
DESCRIPTION:🎄Get ready for the Holiday FUN!🎄 \n🔴🟢🔴🟢🔴
 🟢🔴🟢🔴🟢🔴🟢🔴🟢🔴🟢\n🎅🏼Toddler Time 5-6 & O
 pen Gym 6-7:30! \n🎅🏼CASH ONLY - Pay at the door! \n🎄🎄We have s
 o many FUN Christmas games and activities planned! We hope you can join us
 !
ATTACH;FMTTYPE=image/jpeg:https://visitlebanonky.com/wp-content/uploads/20
 24/12/open-gym.jpg
CATEGORIES:Community
LOCATION:Fit Kids\, 100 Warehouse Road\, Lebanon\, Kentucky\, 40033\, Mario
 n County\, United States
GEO:37.565101;-85.270278
X-APPLE-STRUCTURED-LOCATION;VALUE=URI;X-ADDRESS=100 Warehouse Road\, Lebano
 n\, Kentucky\, 40033\, Marion County\, United States;X-APPLE-RADIUS=100;X-
 TITLE=Fit Kids:geo:37.565101,-85.270278
END:VEVENT
BEGIN:VTIMEZONE
TZID:America/Kentucky/Louisville
X-LIC-LOCATION:America/Kentucky/Louisville
BEGIN:STANDARD
DTSTART:20241103T010000
TZOFFSETFROM:-0400
TZOFFSETTO:-0500
TZNAME:EST
END:STANDARD
END:VTIMEZONE
END:VCALENDAR