BEGIN:VCALENDAR
VERSION:2.0
PRODID:-//wp-events-plugin.com//7.2.3.1//EN
BEGIN:VEVENT
UID:9170@visitlebanonky.com
DTSTART;TZID=America/Kentucky/Louisville:20260523T000000
DTEND;TZID=America/Kentucky/Louisville:20260523T000000
DTSTAMP:20260403T201225Z
URL:https://visitlebanonky.com/events/flag-ceremony-at-roller-family-cemet
 ery/
SUMMARY:Flag Ceremony at Roller Family Cemetery
DESCRIPTION:From Michael Shannon on Facebook HERE\nOn the afternoon of May 
 23 (Memorial Day weekend) the Marion county ROTC will be conducting a Flag
  Ceremony on site at the Roller Family Cemetery where they will be retirin
 g our existing flag and replacing it with a new one. They will also be pla
 cing flags at the graves of all the Veterans within the cemetery. They are
  also starting in the process of getting the Cemetery on the Register for 
 Wreaths Across America. Follow Shannon on Facebook for more information. Y
 ou can buy his book about the restoration of the cemetery on Amazon HERE
ATTACH;FMTTYPE=image/jpeg:https://visitlebanonky.com/wp-content/uploads/20
 26/04/roller-family-cemetery.jpg
CATEGORIES:Community
LOCATION:Roller Family Cemetery\, 3 Rollertown Cemetery Road\, Gravel Switc
 h \, KY \, 40328\, Marion County\, United States
X-APPLE-STRUCTURED-LOCATION;VALUE=URI;X-ADDRESS=3 Rollertown Cemetery Road\
 , Gravel Switch \, KY \, 40328\, Marion County\, United States;X-APPLE-RAD
 IUS=100;X-TITLE=Roller Family Cemetery:geo:0,0
END:VEVENT
BEGIN:VTIMEZONE
TZID:America/Kentucky/Louisville
X-LIC-LOCATION:America/Kentucky/Louisville
BEGIN:DAYLIGHT
DTSTART:20260308T030000
TZOFFSETFROM:-0500
TZOFFSETTO:-0400
TZNAME:EDT
END:DAYLIGHT
END:VTIMEZONE
END:VCALENDAR