BEGIN:VCALENDAR
VERSION:2.0
PRODID:-//wp-events-plugin.com//7.2.3.1//EN
BEGIN:VEVENT
UID:6841@visitlebanonky.com
DTSTART;TZID=America/Kentucky/Louisville:20250114T171500
DTEND;TZID=America/Kentucky/Louisville:20250114T181500
DTSTAMP:20250311T032526Z
URL:https://visitlebanonky.com/events/flow-yoga-2025-01-14/
SUMMARY:Flow Yoga
DESCRIPTION:Join us Tuesdays at 5:15 p.m. for Flow Yoga with Susan Crum-Cox
 . Those who attend will need to bring their own yoga mat\, and donations o
 f $5-$10 for the event are encouraged but not mandatory.
ATTACH;FMTTYPE=image/jpeg:https://visitlebanonky.com/wp-content/uploads/20
 25/01/flo-yoga.jpg
CATEGORIES:Community
LOCATION:Marion County Public Library\, 201 E Main St\, Lebanon\, KY/Marion
 \, 40033\, Marion County\, United States
X-APPLE-STRUCTURED-LOCATION;VALUE=URI;X-ADDRESS=201 E Main St\, Lebanon\, K
 Y/Marion\, 40033\, Marion County\, United States;X-APPLE-RADIUS=100;X-TITL
 E=Marion County Public Library:geo:0,0
END:VEVENT
BEGIN:VTIMEZONE
TZID:America/Kentucky/Louisville
X-LIC-LOCATION:America/Kentucky/Louisville
BEGIN:STANDARD
DTSTART:20241103T010000
TZOFFSETFROM:-0400
TZOFFSETTO:-0500
TZNAME:EST
END:STANDARD
END:VTIMEZONE
END:VCALENDAR