BEGIN:VCALENDAR
VERSION:2.0
PRODID:-//wp-events-plugin.com//7.2.3.1//EN
BEGIN:VEVENT
UID:9190@visitlebanonky.com
DTSTART;TZID=America/Kentucky/Louisville:20260416T100000
DTEND;TZID=America/Kentucky/Louisville:20260416T120000
DTSTAMP:20260414T211218Z
URL:https://visitlebanonky.com/events/food-distribution/
SUMMARY:Food Distribution
DESCRIPTION:
ATTACH;FMTTYPE=image/jpeg:https://visitlebanonky.com/wp-content/uploads/20
 26/04/food-dist.jpg
CATEGORIES:Community
LOCATION:Floral Hall at the Marion County Fairgrounds\, 593 Fairgrounds Roa
 d\, Lebanon\, Kentucky\, 40033\, Marion County\, United States
GEO:37.564189;-85.238475
X-APPLE-STRUCTURED-LOCATION;VALUE=URI;X-ADDRESS=593 Fairgrounds Road\, Leba
 non\, Kentucky\, 40033\, Marion County\, United States;X-APPLE-RADIUS=100;
 X-TITLE=Floral Hall at the Marion County Fairgrounds:geo:37.564189,-85.238
 475
END:VEVENT
BEGIN:VTIMEZONE
TZID:America/Kentucky/Louisville
X-LIC-LOCATION:America/Kentucky/Louisville
BEGIN:DAYLIGHT
DTSTART:20260308T030000
TZOFFSETFROM:-0500
TZOFFSETTO:-0400
TZNAME:EDT
END:DAYLIGHT
END:VTIMEZONE
END:VCALENDAR