BEGIN:VCALENDAR
VERSION:2.0
PRODID:-//wp-events-plugin.com//7.2.3.1//EN
BEGIN:VEVENT
UID:5969@visitlebanonky.com
DTSTART;TZID=America/Kentucky/Louisville:20240817T190000
DTEND;TZID=America/Kentucky/Louisville:20240817T210000
DTSTAMP:20240805T183916Z
URL:https://visitlebanonky.com/events/forkland-kick-off-picnic/
SUMMARY:Forkland Kick Off Picnic
DESCRIPTION:From the event page on Facebook at https://fb.me/e/3JzaWeoYp\nC
 ome join us for the annual kick off picnic. There will be karaoke\, raffle
 \, prizes and an amazing pulled pork sandwich dinner.
ATTACH;FMTTYPE=image/jpeg:https://visitlebanonky.com/wp-content/uploads/20
 24/08/kick-off.jpg
CATEGORIES:Community
LOCATION:Forkland Community Center\, 16479 Forkland Rd.\, Gravel Switch\, K
 Y/Boyle\, 40328\, Boyle County\, United States
X-APPLE-STRUCTURED-LOCATION;VALUE=URI;X-ADDRESS=16479 Forkland Rd.\, Gravel
  Switch\, KY/Boyle\, 40328\, Boyle County\, United States;X-APPLE-RADIUS=1
 00;X-TITLE=Forkland Community Center:geo:0,0
END:VEVENT
BEGIN:VTIMEZONE
TZID:America/Kentucky/Louisville
X-LIC-LOCATION:America/Kentucky/Louisville
BEGIN:DAYLIGHT
DTSTART:20240310T030000
TZOFFSETFROM:-0500
TZOFFSETTO:-0400
TZNAME:EDT
END:DAYLIGHT
END:VTIMEZONE
END:VCALENDAR