BEGIN:VCALENDAR
VERSION:2.0
PRODID:-//wp-events-plugin.com//7.2.3.1//EN
BEGIN:VEVENT
UID:8318@visitlebanonky.com
DTSTART;TZID=America/Kentucky/Louisville:20251112T110000
DTEND;TZID=America/Kentucky/Louisville:20251112T130000
DTSTAMP:20251110T215035Z
URL:https://visitlebanonky.com/events/free-chili-lunch/
SUMMARY:FREE Chili Lunch
DESCRIPTION:Free soup and sandwich meal outside in front of Saint Augustine
  Catholic Church on Wednesday\, November 12 from 11 a.m. till 1 p.m. or un
 til it's all gone. All are welcome. 
ATTACH;FMTTYPE=image/jpeg:https://visitlebanonky.com/wp-content/uploads/20
 25/10/chili-supper.jpg
CATEGORIES:Community
LOCATION:Saint Augustine Catholic Church\, 235 S Spalding Ave\, Lebanon\, K
 entucky\, 40033\, Marion County\, United States
GEO:37.568386;-85.251286
X-APPLE-STRUCTURED-LOCATION;VALUE=URI;X-ADDRESS=235 S Spalding Ave\, Lebano
 n\, Kentucky\, 40033\, Marion County\, United States;X-APPLE-RADIUS=100;X-
 TITLE=Saint Augustine Catholic Church:geo:37.568386,-85.251286
END:VEVENT
BEGIN:VTIMEZONE
TZID:America/Kentucky/Louisville
X-LIC-LOCATION:America/Kentucky/Louisville
BEGIN:STANDARD
DTSTART:20251102T010000
TZOFFSETFROM:-0400
TZOFFSETTO:-0500
TZNAME:EST
END:STANDARD
END:VTIMEZONE
END:VCALENDAR