BEGIN:VCALENDAR
VERSION:2.0
PRODID:-//wp-events-plugin.com//7.2.3.1//EN
BEGIN:VEVENT
UID:7865@visitlebanonky.com
DTSTART;TZID=America/Kentucky/Louisville:20250812T190000
DTEND;TZID=America/Kentucky/Louisville:20250812T200000
DTSTAMP:20250811T161733Z
URL:https://visitlebanonky.com/events/free-concert-at-loretto-motherhouse-
 4/
SUMMARY:Free Concert at Loretto Motherhouse
DESCRIPTION: 
ATTACH;FMTTYPE=image/jpeg:https://visitlebanonky.com/wp-content/uploads/20
 25/08/aug-12-loretto-concert.jpg
CATEGORIES:Official
LOCATION:Loretto Motherhouse Church\, 515 Nerinx Road\, Nerinx\, KY\, 40049
 \, Marion County\, United States
X-APPLE-STRUCTURED-LOCATION;VALUE=URI;X-ADDRESS=515 Nerinx Road\, Nerinx\, 
 KY\, 40049\, Marion County\, United States;X-APPLE-RADIUS=100;X-TITLE=Lore
 tto Motherhouse Church:geo:0,0
END:VEVENT
BEGIN:VTIMEZONE
TZID:America/Kentucky/Louisville
X-LIC-LOCATION:America/Kentucky/Louisville
BEGIN:DAYLIGHT
DTSTART:20250309T030000
TZOFFSETFROM:-0500
TZOFFSETTO:-0400
TZNAME:EDT
END:DAYLIGHT
END:VTIMEZONE
END:VCALENDAR