BEGIN:VCALENDAR
VERSION:2.0
PRODID:-//wp-events-plugin.com//7.2.3.1//EN
BEGIN:VEVENT
UID:8644@visitlebanonky.com
DTSTART;TZID=America/Kentucky/Louisville:20260307T080000
DTEND;TZID=America/Kentucky/Louisville:20260307T120000
DTSTAMP:20260117T212426Z
URL:https://visitlebanonky.com/events/free-hunters-education-class/
SUMMARY:Free Hunter's Education Class
DESCRIPTION:FOLLOW ON FACEBOOK HERE\n\n🦌 FREE Hunter’s Education Class
  🦌\n📅 March 7th\n⏰ 8:00 AM TILL ? (ENDING TIME ON EVENT PAGE IS ST
 RICTLY A SPACE HOLDER)\n📍 Marion County Sportsman’s Club \n716 Sports
 man’s Lake Rd. Lebanon\, KY 40033 \nGet certified and learn safe\, respo
 nsible hunting practices. This class is FREE and open to ages 9 and up!\n
 📞 Questions? Call Mike McElroy at (270) 692-8746\n👇🏼 Register Bel
 ow👇🏼\nClass& Range Link:  HERE\nRange ONLY Link: HERE  \n 
ATTACH;FMTTYPE=image/jpeg:https://visitlebanonky.com/wp-content/uploads/20
 26/01/hunter-ed.jpg
CATEGORIES:Community
LOCATION:Marion County Sportsmans Club\, 716 Sportsmans Lake Road\, Lebanon
 \, Kentucky\, 40033\, Marion County\, United States
GEO:37.51209;-85.24837
X-APPLE-STRUCTURED-LOCATION;VALUE=URI;X-ADDRESS=716 Sportsmans Lake Road\, 
 Lebanon\, Kentucky\, 40033\, Marion County\, United States;X-APPLE-RADIUS=
 100;X-TITLE=Marion County Sportsmans Club:geo:37.51209,-85.24837
END:VEVENT
BEGIN:VTIMEZONE
TZID:America/Kentucky/Louisville
X-LIC-LOCATION:America/Kentucky/Louisville
BEGIN:STANDARD
DTSTART:20251102T010000
TZOFFSETFROM:-0400
TZOFFSETTO:-0500
TZNAME:EST
END:STANDARD
END:VTIMEZONE
END:VCALENDAR