BEGIN:VCALENDAR
VERSION:2.0
PRODID:-//wp-events-plugin.com//7.2.3.1//EN
BEGIN:VEVENT
UID:9144@visitlebanonky.com
DTSTART;TZID=America/Kentucky/Louisville:20260401T110000
DTEND;TZID=America/Kentucky/Louisville:20260401T120000
DTSTAMP:20260328T043037Z
URL:https://visitlebanonky.com/events/free-lunch-at-st-a/
SUMMARY:Free Lunch at St. A
DESCRIPTION:This Wednesday\, 4/1\, we are serving a free meal on the front 
 steps of Saint Augustine Catholic Church for anyone who could use a free m
 eal!
ATTACH;FMTTYPE=image/jpeg:https://visitlebanonky.com/wp-content/uploads/20
 26/03/free-lunch.jpg
CATEGORIES:Community
LOCATION:St. Augustine Catholic Church\, 235 S. Spalding Ave.\, Lebanon\, K
 Y/Marion\, 40033\, Marion County\, United States
X-APPLE-STRUCTURED-LOCATION;VALUE=URI;X-ADDRESS=235 S. Spalding Ave.\, Leba
 non\, KY/Marion\, 40033\, Marion County\, United States;X-APPLE-RADIUS=100
 ;X-TITLE=St. Augustine Catholic Church:geo:0,0
END:VEVENT
BEGIN:VTIMEZONE
TZID:America/Kentucky/Louisville
X-LIC-LOCATION:America/Kentucky/Louisville
BEGIN:DAYLIGHT
DTSTART:20260308T030000
TZOFFSETFROM:-0500
TZOFFSETTO:-0400
TZNAME:EDT
END:DAYLIGHT
END:VTIMEZONE
END:VCALENDAR