BEGIN:VCALENDAR
VERSION:2.0
PRODID:-//wp-events-plugin.com//7.2.3.1//EN
BEGIN:VEVENT
UID:8432@visitlebanonky.com
DTSTART;TZID=America/Kentucky/Louisville:20251212T120000
DTEND;TZID=America/Kentucky/Louisville:20251212T123000
DTSTAMP:20251208T181916Z
URL:https://visitlebanonky.com/events/free-lunch-soup-for-the-soul-at-st-a
 ugustine/
SUMMARY:Free Lunch "Soup For The Soul" at St. Augustine
DESCRIPTION:Starts at 12 until all is gone.
ATTACH;FMTTYPE=image/jpeg:https://visitlebanonky.com/wp-content/uploads/20
 25/12/free-lunch.jpg
CATEGORIES:Community
LOCATION:St. Augustine Catholic Church\, 235 S. Spalding Ave.\, Lebanon\, K
 Y/Marion\, 40033\, Marion County\, United States
X-APPLE-STRUCTURED-LOCATION;VALUE=URI;X-ADDRESS=235 S. Spalding Ave.\, Leba
 non\, KY/Marion\, 40033\, Marion County\, United States;X-APPLE-RADIUS=100
 ;X-TITLE=St. Augustine Catholic Church:geo:0,0
END:VEVENT
BEGIN:VTIMEZONE
TZID:America/Kentucky/Louisville
X-LIC-LOCATION:America/Kentucky/Louisville
BEGIN:STANDARD
DTSTART:20251102T010000
TZOFFSETFROM:-0400
TZOFFSETTO:-0500
TZNAME:EST
END:STANDARD
END:VTIMEZONE
END:VCALENDAR