BEGIN:VCALENDAR
VERSION:2.0
PRODID:-//wp-events-plugin.com//7.2.3.1//EN
BEGIN:VEVENT
UID:7575@visitlebanonky.com
DTSTART;TZID=America/Kentucky/Louisville:20250510T000000
DTEND;TZID=America/Kentucky/Louisville:20250510T000000
DTSTAMP:20250507T222044Z
URL:https://visitlebanonky.com/events/free-trial-class/
SUMMARY:Free Trial Class
DESCRIPTION:🚨 Free Trial Class – Saturday\, May 10th! 🚨\nJames Clem
 ents is teaming up with LND CrossFit to offer a Summer Sports Performance 
 Program for Middle School and High School athletes—and we’re kicking t
 hings off with a free trial class this Saturday!\nWith over 12 years of ex
 perience training athletes\, a Master’s Degree in Exercise Physiology (w
 ith a Strength & Conditioning focus)\, and certification as a Certified St
 rength and Conditioning Specialist (CSCS) through the NSCA\, I’ve helped
  athletes perform at their best.\nWhen I coached at one of Louisville’s 
 top sports performance gyms\, I always dreamed of bringing that same high-
 level\, science-based training to athletes here in Marion County. Thanks t
 o LND CrossFit\, that’s now a reality.\n✅ Come check out the free tria
 l class and get a preview of our full summer program.\nLet’s help your a
 thlete get stronger\, faster\, and more confident this offseason!\nLeave N
 o Doubt Crossfit\n333 Old Springfield Rd\, Lebanon\, KY 40033\n📍 Sign u
 p below!\nhttps://forms.gle/17QQ2gAdxnh9CDef7
ATTACH;FMTTYPE=image/jpeg:https://visitlebanonky.com/wp-content/uploads/20
 25/05/summer-sports-class.jpg
CATEGORIES:Community
LOCATION:Leave No Doubt Crossfit\, 333 Old Springfield Hwy\, Lebanon\, Kent
 ucky\, 40033\,  Marion County\, United States
GEO:37.591707;-85.250554
X-APPLE-STRUCTURED-LOCATION;VALUE=URI;X-ADDRESS=333 Old Springfield Hwy\, L
 ebanon\, Kentucky\, 40033\,  Marion County\, United States;X-APPLE-RADIUS=
 100;X-TITLE=Leave No Doubt Crossfit:geo:37.591707,-85.250554
END:VEVENT
BEGIN:VTIMEZONE
TZID:America/Kentucky/Louisville
X-LIC-LOCATION:America/Kentucky/Louisville
BEGIN:DAYLIGHT
DTSTART:20250309T030000
TZOFFSETFROM:-0500
TZOFFSETTO:-0400
TZNAME:EDT
END:DAYLIGHT
END:VTIMEZONE
END:VCALENDAR