BEGIN:VCALENDAR
VERSION:2.0
PRODID:-//wp-events-plugin.com//7.2.3.1//EN
BEGIN:VEVENT
UID:8673@visitlebanonky.com
DTSTART;TZID=America/Kentucky/Louisville:20260313T160000
DTEND;TZID=America/Kentucky/Louisville:20260313T190000
DTSTAMP:20260123T020723Z
URL:https://visitlebanonky.com/events/friday-lenten-fish-fry-2026-03-13/
SUMMARY:Friday Lenten Fish Fry
DESCRIPTION:43 Years of Fish....\nWe would like to invite everyone to visit
  us this year during our Friday Lenten Fish Fry. Remember\, the money you 
 spend with us at the K of C Friday Fish Fry goes to help fund Church activ
 ities like church upgrades & maintenance\, youth group trips\, local youth
  leagues\, local high school teams\, events for little league baseball\, e
 tc.... We know & understand that there are a lot of Fish Frys out there no
 w\, but our Fish Fry is Your Fish Fry... We support our Churches & Our Loc
 al activities & our local people.
ATTACH;FMTTYPE=image/jpeg:https://visitlebanonky.com/wp-content/uploads/20
 26/01/FISH-FRY.jpg
CATEGORIES:Community
LOCATION:Knights of Columbus Hall\, 600 South Spalding Ave.\, Lebanon\, Ken
 tucky\, 40033\, Marion County\, United States
GEO:37.56278;-85.246128
X-APPLE-STRUCTURED-LOCATION;VALUE=URI;X-ADDRESS=600 South Spalding Ave.\, L
 ebanon\, Kentucky\, 40033\, Marion County\, United States;X-APPLE-RADIUS=1
 00;X-TITLE=Knights of Columbus Hall:geo:37.56278,-85.246128
END:VEVENT
BEGIN:VTIMEZONE
TZID:America/Kentucky/Louisville
X-LIC-LOCATION:America/Kentucky/Louisville
BEGIN:DAYLIGHT
DTSTART:20260308T030000
TZOFFSETFROM:-0500
TZOFFSETTO:-0400
TZNAME:EDT
END:DAYLIGHT
END:VTIMEZONE
END:VCALENDAR