BEGIN:VCALENDAR
VERSION:2.0
PRODID:-//wp-events-plugin.com//7.2.3.1//EN
BEGIN:VEVENT
UID:5972@visitlebanonky.com
DTSTART;TZID=America/Kentucky/Louisville:20240907T100000
DTEND;TZID=America/Kentucky/Louisville:20240907T170000
DTSTAMP:20240809T181330Z
URL:https://visitlebanonky.com/events/fun-day-on-the-farm/
SUMMARY:Fun Day on the Farm
DESCRIPTION:
ATTACH;FMTTYPE=image/jpeg:https://visitlebanonky.com/wp-content/uploads/20
 24/08/fun-day-on-farm.jpg
CATEGORIES:Community
LOCATION:ST CATHARINE FARM\, 2645 Bardstown Rd\, Springfield\, Kentucky\, 4
 0069\, Washington County\, United States
GEO:37.691007;-85.233052
X-APPLE-STRUCTURED-LOCATION;VALUE=URI;X-ADDRESS=2645 Bardstown Rd\, Springf
 ield\, Kentucky\, 40069\, Washington County\, United States;X-APPLE-RADIUS
 =100;X-TITLE=ST CATHARINE FARM:geo:37.691007,-85.233052
END:VEVENT
BEGIN:VTIMEZONE
TZID:America/Kentucky/Louisville
X-LIC-LOCATION:America/Kentucky/Louisville
BEGIN:DAYLIGHT
DTSTART:20240310T030000
TZOFFSETFROM:-0500
TZOFFSETTO:-0400
TZNAME:EDT
END:DAYLIGHT
END:VTIMEZONE
END:VCALENDAR