BEGIN:VCALENDAR
VERSION:2.0
PRODID:-//wp-events-plugin.com//7.2.3.1//EN
BEGIN:VEVENT
UID:6329@visitlebanonky.com
DTSTART;TZID=America/Kentucky/Louisville:20241115T170000
DTEND;TZID=America/Kentucky/Louisville:20241115T193000
DTSTAMP:20241022T230430Z
URL:https://visitlebanonky.com/events/glasscock-elementary-school-fall-fes
 tival/
SUMMARY:Glasscock Elementary School Fall Festival
DESCRIPTION:Save the date! Glasscock Elementary school Fall festival will b
 e held November 15\, 2024! Mark the date and join us! Flat entry fee inclu
 des all games\, and auction. \nGrocery cart\, cake wheel\, and chili suppe
 r additional costs.\nIf you would like to volunteer at fall festival pleas
 e reach out to PTO President Liz Morgeson or message us on here!
ATTACH;FMTTYPE=image/jpeg:https://visitlebanonky.com/wp-content/uploads/20
 24/10/glasscock-fall-festival.jpg
CATEGORIES:Community
LOCATION:Glasscock Elementary School\, 773 East Main Street\, Lebanon\, KY/
 Marion\, 40033\, Marion County\, United States
X-APPLE-STRUCTURED-LOCATION;VALUE=URI;X-ADDRESS=773 East Main Street\, Leba
 non\, KY/Marion\, 40033\, Marion County\, United States;X-APPLE-RADIUS=100
 ;X-TITLE=Glasscock Elementary School:geo:0,0
END:VEVENT
BEGIN:VTIMEZONE
TZID:America/Kentucky/Louisville
X-LIC-LOCATION:America/Kentucky/Louisville
BEGIN:STANDARD
DTSTART:20241103T010000
TZOFFSETFROM:-0400
TZOFFSETTO:-0500
TZNAME:EST
END:STANDARD
END:VTIMEZONE
END:VCALENDAR