BEGIN:VCALENDAR
VERSION:2.0
PRODID:-//wp-events-plugin.com//7.2.3.1//EN
BEGIN:VEVENT
UID:8679@visitlebanonky.com
DTSTART;TZID=America/Kentucky/Louisville:20260424T180000
DTEND;TZID=America/Kentucky/Louisville:20260424T200000
DTSTAMP:20260129T193422Z
URL:https://visitlebanonky.com/events/glasscock-elementary-school-spring-f
 ling/
SUMMARY:Glasscock Elementary School Spring Fling
DESCRIPTION:Dreaming of warmer weather and Spring activities? Mark your cal
 endars for this annual GES Title 1/FRYSC family engagement event! Tickets 
 will be sold at the door. DJ Phish will keep the party going from 6-8 p.m.
  and the Smile Station photo booth will also be available. Follow Glasscoc
 k on Facebook HERE 
ATTACH;FMTTYPE=image/jpeg:https://visitlebanonky.com/wp-content/uploads/20
 26/01/ges-spring-fling.jpg
CATEGORIES:Community
LOCATION:Glasscock Elementary School\, 773 East Main Street\, Lebanon\, KY/
 Marion\, 40033\, Marion County\, United States
X-APPLE-STRUCTURED-LOCATION;VALUE=URI;X-ADDRESS=773 East Main Street\, Leba
 non\, KY/Marion\, 40033\, Marion County\, United States;X-APPLE-RADIUS=100
 ;X-TITLE=Glasscock Elementary School:geo:0,0
END:VEVENT
BEGIN:VTIMEZONE
TZID:America/Kentucky/Louisville
X-LIC-LOCATION:America/Kentucky/Louisville
BEGIN:DAYLIGHT
DTSTART:20260308T030000
TZOFFSETFROM:-0500
TZOFFSETTO:-0400
TZNAME:EDT
END:DAYLIGHT
END:VTIMEZONE
END:VCALENDAR