BEGIN:VCALENDAR
VERSION:2.0
PRODID:-//wp-events-plugin.com//7.2.3.1//EN
BEGIN:VEVENT
UID:9067@visitlebanonky.com
DTSTART;TZID=America/Kentucky/Louisville:20260320T200000
DTEND;TZID=America/Kentucky/Louisville:20260320T210000
DTSTAMP:20260317T201843Z
URL:https://visitlebanonky.com/events/gods-hands-parking-lot-ministry/
SUMMARY:God's Hands Parking Lot Ministry
DESCRIPTION:This Friday evening we will be feeding all of our local teens w
 ho hang out/fellowship in the Lebanon Trade Center parking lot. We will be
  serving grilled hotdogs\, cold sodas\, and will be available for prayer a
 nd encouragement. If you would like to volunteer or be a part of this outr
 each event\, please let us know. We will fire up the grill around 8 p.m. Y
 ou can follow God's Hands Ministry on Facebook HERE
ATTACH;FMTTYPE=image/jpeg:https://visitlebanonky.com/wp-content/uploads/20
 26/03/gods-hands.jpg
CATEGORIES:Community
LOCATION:Gods Hands Ministries\, 170 Lebanon Trade Center\, Lebanon\, Kentu
 cky\, 40033\, Marion County\, United States
GEO:37.558888;-85.270473
X-APPLE-STRUCTURED-LOCATION;VALUE=URI;X-ADDRESS=170 Lebanon Trade Center\, 
 Lebanon\, Kentucky\, 40033\, Marion County\, United States;X-APPLE-RADIUS=
 100;X-TITLE=Gods Hands Ministries:geo:37.558888,-85.270473
END:VEVENT
BEGIN:VTIMEZONE
TZID:America/Kentucky/Louisville
X-LIC-LOCATION:America/Kentucky/Louisville
BEGIN:DAYLIGHT
DTSTART:20260308T030000
TZOFFSETFROM:-0500
TZOFFSETTO:-0400
TZNAME:EDT
END:DAYLIGHT
END:VTIMEZONE
END:VCALENDAR