BEGIN:VCALENDAR
VERSION:2.0
PRODID:-//wp-events-plugin.com//7.2.3.1//EN
BEGIN:VEVENT
UID:6611@visitlebanonky.com
DTSTART;TZID=America/Kentucky/Louisville:20250811T000000
DTEND;TZID=America/Kentucky/Louisville:20261231T000000
DTSTAMP:20251105T190516Z
URL:https://visitlebanonky.com/events/golf-practice-facility-now-open-2/
SUMMARY:Golf Practice Facility Now Open
DESCRIPTION:Located on the backside of Graham Memorial Park on Fairground R
 oad in Lebanon near the soccer complex. Check out the community section of
  this calendar for some free events and follow the park on Facebook HERE a
 nd HERE  
ATTACH;FMTTYPE=image/jpeg:https://visitlebanonky.com/wp-content/uploads/20
 24/06/golf-e1729652585582.jpg
CATEGORIES:Community
LOCATION:Graham Memorial Park Golf\, Fairground Road\, Lebanon\, KY\, 40033
 \, Marion County\, United States
X-APPLE-STRUCTURED-LOCATION;VALUE=URI;X-ADDRESS=Fairground Road\, Lebanon\,
  KY\, 40033\, Marion County\, United States;X-APPLE-RADIUS=100;X-TITLE=Gra
 ham Memorial Park Golf:geo:0,0
END:VEVENT
BEGIN:VTIMEZONE
TZID:America/Kentucky/Louisville
X-LIC-LOCATION:America/Kentucky/Louisville
BEGIN:DAYLIGHT
DTSTART:20250309T030000
TZOFFSETFROM:-0500
TZOFFSETTO:-0400
TZNAME:EDT
END:DAYLIGHT
BEGIN:STANDARD
DTSTART:20251102T010000
TZOFFSETFROM:-0400
TZOFFSETTO:-0500
TZNAME:EST
END:STANDARD
BEGIN:DAYLIGHT
DTSTART:20260308T030000
TZOFFSETFROM:-0500
TZOFFSETTO:-0400
TZNAME:EDT
END:DAYLIGHT
BEGIN:STANDARD
DTSTART:20261101T010000
TZOFFSETFROM:-0400
TZOFFSETTO:-0500
TZNAME:EST
END:STANDARD
END:VTIMEZONE
END:VCALENDAR