BEGIN:VCALENDAR
VERSION:2.0
PRODID:-//wp-events-plugin.com//7.2.3.1//EN
BEGIN:VEVENT
UID:6608@visitlebanonky.com
DTSTART;TZID=America/Kentucky/Louisville:20250215T000000
DTEND;TZID=America/Kentucky/Louisville:20250215T000000
DTSTAMP:20250103T203637Z
URL:https://visitlebanonky.com/events/good-samaritans-its-a-sweet-thing-fu
 ndraiser-awareness-dance/
SUMMARY:Good Samaritans "It's A Sweet Thing" Fundraiser Awareness Dance
DESCRIPTION:Please join us for our annual fundraising/awareness Valentine
 ’s Dance “It’s A Sweet Thing” on Saturday\, February 15\, 2025\, 8
  p.m. to midnight at Centre Square. Lebanon\, KY.  Tickets are limited to 
 500 and the cost is $30 per person or you may reserve a table for 8 for $2
 40.  Call or text Bernadette at 270-402-2965. Thank you for being our Good
  Samaritan! Follow on Facebook at https://www.facebook.com/profile.php?id=
 100075903745040 
ATTACH;FMTTYPE=image/jpeg:https://visitlebanonky.com/wp-content/uploads/20
 24/12/sweet.jpg
CATEGORIES:Official
LOCATION:Centre Square Gymnasium\, Hood Avenue\, Lebanon\, Kentucky\, 40033
 \, Marion County\, United States
GEO:37.57381;-85.251312
X-APPLE-STRUCTURED-LOCATION;VALUE=URI;X-ADDRESS=Hood Avenue\, Lebanon\, Ken
 tucky\, 40033\, Marion County\, United States;X-APPLE-RADIUS=100;X-TITLE=C
 entre Square Gymnasium:geo:37.57381,-85.251312
END:VEVENT
BEGIN:VTIMEZONE
TZID:America/Kentucky/Louisville
X-LIC-LOCATION:America/Kentucky/Louisville
BEGIN:STANDARD
DTSTART:20241103T010000
TZOFFSETFROM:-0400
TZOFFSETTO:-0500
TZNAME:EST
END:STANDARD
END:VTIMEZONE
END:VCALENDAR