BEGIN:VCALENDAR
VERSION:2.0
PRODID:-//wp-events-plugin.com//7.2.3.1//EN
BEGIN:VEVENT
UID:8373@visitlebanonky.com
DTSTART;TZID=America/Kentucky/Louisville:20251214T180000
DTEND;TZID=America/Kentucky/Louisville:20251214T193000
DTSTAMP:20251201T172434Z
URL:https://visitlebanonky.com/events/grace-baptist-church-christmas-play/
SUMMARY:Grace Baptist Church Christmas Play
DESCRIPTION:
ATTACH;FMTTYPE=image/jpeg:https://visitlebanonky.com/wp-content/uploads/20
 25/12/grace-baptist.jpg
CATEGORIES:Community
LOCATION:Grace Baptist Church\, 350 East Main Street\, Lebanon\, Kentucky\,
  40033\, Marion County\, United States
GEO:37.571724;-85.246915
X-APPLE-STRUCTURED-LOCATION;VALUE=URI;X-ADDRESS=350 East Main Street\, Leba
 non\, Kentucky\, 40033\, Marion County\, United States;X-APPLE-RADIUS=100;
 X-TITLE=Grace Baptist Church:geo:37.571724,-85.246915
END:VEVENT
BEGIN:VTIMEZONE
TZID:America/Kentucky/Louisville
X-LIC-LOCATION:America/Kentucky/Louisville
BEGIN:STANDARD
DTSTART:20251102T010000
TZOFFSETFROM:-0400
TZOFFSETTO:-0500
TZNAME:EST
END:STANDARD
END:VTIMEZONE
END:VCALENDAR