BEGIN:VCALENDAR
VERSION:2.0
PRODID:-//wp-events-plugin.com//7.2.3.1//EN
BEGIN:VEVENT
UID:9154@visitlebanonky.com
DTSTART;TZID=America/Kentucky/Louisville:20260405T180000
DTEND;TZID=America/Kentucky/Louisville:20260405T193000
DTSTAMP:20260331T182340Z
URL:https://visitlebanonky.com/events/grace-baptist-spring-revival/
SUMMARY:Grace Baptist Spring Revival
DESCRIPTION:
ATTACH;FMTTYPE=image/jpeg:https://visitlebanonky.com/wp-content/uploads/20
 26/03/grace-baptist-revival.jpg
CATEGORIES:Community
LOCATION:Grace Baptist Church\, 350 East Main Street\, Lebanon\, Kentucky\,
  40033\, Marion County\, United States
GEO:37.571724;-85.246915
X-APPLE-STRUCTURED-LOCATION;VALUE=URI;X-ADDRESS=350 East Main Street\, Leba
 non\, Kentucky\, 40033\, Marion County\, United States;X-APPLE-RADIUS=100;
 X-TITLE=Grace Baptist Church:geo:37.571724,-85.246915
END:VEVENT
BEGIN:VTIMEZONE
TZID:America/Kentucky/Louisville
X-LIC-LOCATION:America/Kentucky/Louisville
BEGIN:DAYLIGHT
DTSTART:20260308T030000
TZOFFSETFROM:-0500
TZOFFSETTO:-0400
TZNAME:EDT
END:DAYLIGHT
END:VTIMEZONE
END:VCALENDAR