BEGIN:VCALENDAR
VERSION:2.0
PRODID:-//wp-events-plugin.com//7.2.3.1//EN
BEGIN:VEVENT
UID:9159@visitlebanonky.com
DTSTART;TZID=America/Kentucky/Louisville:20260418T090000
DTEND;TZID=America/Kentucky/Louisville:20260418T140000
DTSTAMP:20260401T204728Z
URL:https://visitlebanonky.com/events/grain-bin-safety-class/
SUMMARY:Grain Bin Safety Class
DESCRIPTION:Loretto Fire Department is pleased to announce that we will be 
 hosting a grain bin rescue class on April 18 starting at 9:00 a.m. Local f
 armers and the public is invited to attend and see what we do if things go
  bad inside of a grain bin. Training will be held at the Loretto Fire Depa
 rtment\, 100 Schoolhouse Dr. Loretto\, KY.\nNote: The ending time is stric
 tly a place holder. No end time was listed on this event.
CATEGORIES:Community
LOCATION:Loretto Fire Department 393\, 100 School Drive\, Loretto\, Kentuck
 y\, 40049\, Marion County\, United States
GEO:37.63707;-85.403856
X-APPLE-STRUCTURED-LOCATION;VALUE=URI;X-ADDRESS=100 School Drive\, Loretto\
 , Kentucky\, 40049\, Marion County\, United States;X-APPLE-RADIUS=100;X-TI
 TLE=Loretto Fire Department 393:geo:37.63707,-85.403856
END:VEVENT
BEGIN:VTIMEZONE
TZID:America/Kentucky/Louisville
X-LIC-LOCATION:America/Kentucky/Louisville
BEGIN:DAYLIGHT
DTSTART:20260308T030000
TZOFFSETFROM:-0500
TZOFFSETTO:-0400
TZNAME:EDT
END:DAYLIGHT
END:VTIMEZONE
END:VCALENDAR