BEGIN:VCALENDAR
VERSION:2.0
PRODID:-//wp-events-plugin.com//7.2.3.1//EN
BEGIN:VEVENT
UID:6315@visitlebanonky.com
DTSTART;TZID=America/Kentucky/Louisville:20241026T150000
DTEND;TZID=America/Kentucky/Louisville:20241026T200000
DTSTAMP:20241021T035503Z
URL:https://visitlebanonky.com/events/gravel-switch-baptist-church-fall-fe
 stival-2/
SUMMARY:Gravel Switch Baptist Church Fall Festival
DESCRIPTION:From the event on Facebook at https://www.facebook.com/events/3
 95966503370266/?ref=newsfeed\nGravel Switch Baptist Church Fall Festival\n
 Fun for the whole family! Dinner at 6 p.m.\nGames\, activities\, food and 
 a hayride\nJoin us and bring a friend!
ATTACH;FMTTYPE=image/jpeg:https://visitlebanonky.com/wp-content/uploads/20
 24/10/gs-baptist.jpg
CATEGORIES:Community
LOCATION:Gravel Switch Baptist Church\, 981 Gravel Switch Road\, Gravel Swi
 tch\, Kentucky\, 40328\, Marion County\, United States
GEO:37.579979;-85.05265
X-APPLE-STRUCTURED-LOCATION;VALUE=URI;X-ADDRESS=981 Gravel Switch Road\, Gr
 avel Switch\, Kentucky\, 40328\, Marion County\, United States;X-APPLE-RAD
 IUS=100;X-TITLE=Gravel Switch Baptist Church:geo:37.579979,-85.05265
END:VEVENT
BEGIN:VTIMEZONE
TZID:America/Kentucky/Louisville
X-LIC-LOCATION:America/Kentucky/Louisville
BEGIN:DAYLIGHT
DTSTART:20240310T030000
TZOFFSETFROM:-0500
TZOFFSETTO:-0400
TZNAME:EDT
END:DAYLIGHT
END:VTIMEZONE
END:VCALENDAR