BEGIN:VCALENDAR
VERSION:2.0
PRODID:-//wp-events-plugin.com//7.2.3.1//EN
BEGIN:VEVENT
UID:8261@visitlebanonky.com
DTSTART;TZID=America/Kentucky/Louisville:20260801T070000
DTEND;TZID=America/Kentucky/Louisville:20260801T100000
DTSTAMP:20251110T161933Z
URL:https://visitlebanonky.com/events/gravel-switch-big-breakfast-2026-08-
 01/
SUMMARY:Gravel Switch Big Breakfast
DESCRIPTION:GRAVEL SWITCH\, KY — TW Wash Lodge #430 F&AM will host an all
 -you-can-eat breakfast on the first Saturday each month at the Gravel Swit
 ch Community Center. The breakfast will feature a hearty menu\, including 
 pancakes\, sausage\, bacon\, eggs\, hashbrown casserole\, fried apples\, b
 iscuits and gravy\, fruit\, and more. Meals will be served from 7:00 to 10
 :00 a.m.\, with tickets priced at $10 for adults and $5 for children 12 an
 d under. Organizers invite the community to come out for a delicious break
 fast and support the local Masonic Lodge.
ATTACH;FMTTYPE=image/jpeg:https://visitlebanonky.com/wp-content/uploads/20
 23/06/big-breakfast-2.jpg
CATEGORIES:Community
LOCATION:Gravel Switch Community Center\, 640 Gravel Switch Road\, Gravel S
 witch\, Kentucky\, 40328\, Marion County\, United States
GEO:37.579979;-85.05265
X-APPLE-STRUCTURED-LOCATION;VALUE=URI;X-ADDRESS=640 Gravel Switch Road\, Gr
 avel Switch\, Kentucky\, 40328\, Marion County\, United States;X-APPLE-RAD
 IUS=100;X-TITLE=Gravel Switch Community Center:geo:37.579979,-85.05265
END:VEVENT
BEGIN:VTIMEZONE
TZID:America/Kentucky/Louisville
X-LIC-LOCATION:America/Kentucky/Louisville
BEGIN:DAYLIGHT
DTSTART:20260308T030000
TZOFFSETFROM:-0500
TZOFFSETTO:-0400
TZNAME:EDT
END:DAYLIGHT
END:VTIMEZONE
END:VCALENDAR