BEGIN:VCALENDAR
VERSION:2.0
PRODID:-//wp-events-plugin.com//7.2.3.1//EN
BEGIN:VEVENT
UID:8322@visitlebanonky.com
DTSTART;TZID=America/Kentucky/Louisville:20241215T160000
DTEND;TZID=America/Kentucky/Louisville:20241215T183000
DTSTAMP:20251110T222515Z
URL:https://visitlebanonky.com/events/gravel-switch-christmas-parade-2/
SUMMARY:Gravel Switch Christmas Parade
DESCRIPTION: \n
ATTACH;FMTTYPE=image/jpeg:https://visitlebanonky.com/wp-content/uploads/20
 25/11/gs-christmas-parade.jpg
CATEGORIES:Community
LOCATION:Gravel Switch Fire Department\, 881 Gravel Switch Road\, Gravel Sw
 itch\, Kentucky\, 40328\, Marion County\, United States
X-APPLE-STRUCTURED-LOCATION;VALUE=URI;X-ADDRESS=881 Gravel Switch Road\, Gr
 avel Switch\, Kentucky\, 40328\, Marion County\, United States;X-APPLE-RAD
 IUS=100;X-TITLE=Gravel Switch Fire Department:geo:0,0
END:VEVENT
BEGIN:VTIMEZONE
TZID:America/Kentucky/Louisville
X-LIC-LOCATION:America/Kentucky/Louisville
BEGIN:STANDARD
DTSTART:20241103T010000
TZOFFSETFROM:-0400
TZOFFSETTO:-0500
TZNAME:EST
END:STANDARD
END:VTIMEZONE
END:VCALENDAR