BEGIN:VCALENDAR
VERSION:2.0
PRODID:-//wp-events-plugin.com//7.2.3.1//EN
BEGIN:VEVENT
UID:8445@visitlebanonky.com
DTSTART;TZID=America/Kentucky/Louisville:20251213T153000
DTEND;TZID=America/Kentucky/Louisville:20251213T163000
DTSTAMP:20251209T015556Z
URL:https://visitlebanonky.com/events/gravel-switch-christmas-parade-3/
SUMMARY:Gravel Switch Christmas Parade
DESCRIPTION:The Gravel Switch Christmas Parade will be on December 13. Entr
 ants should line up at Manna Harvest Church by 3:30 p.m. The parade will s
 tart at 4 p.m. 
CATEGORIES:Community
LOCATION:Gravel Switch\, Main Street\, Gravel Switch \, KY/Marion\, 40328\,
  KY/Marion\, United States
X-APPLE-STRUCTURED-LOCATION;VALUE=URI;X-ADDRESS=Main Street\, Gravel Switch
  \, KY/Marion\, 40328\, KY/Marion\, United States;X-APPLE-RADIUS=100;X-TIT
 LE=Gravel Switch:geo:0,0
END:VEVENT
BEGIN:VTIMEZONE
TZID:America/Kentucky/Louisville
X-LIC-LOCATION:America/Kentucky/Louisville
BEGIN:STANDARD
DTSTART:20251102T010000
TZOFFSETFROM:-0400
TZOFFSETTO:-0500
TZNAME:EST
END:STANDARD
END:VTIMEZONE
END:VCALENDAR