BEGIN:VCALENDAR
VERSION:2.0
PRODID:-//wp-events-plugin.com//7.2.3.1//EN
BEGIN:VEVENT
UID:8137@visitlebanonky.com
DTSTART;TZID=America/Kentucky/Louisville:20251108T170000
DTEND;TZID=America/Kentucky/Louisville:20251108T200000
DTSTAMP:20251107T004959Z
URL:https://visitlebanonky.com/events/gravel-switch-community-center-fall-
 festival/
SUMMARY:Gravel Switch Community Center Fall Festival
DESCRIPTION:Join us for our Fall Festival. Chili supper\, cake wheel\, game
 s. 
ATTACH;FMTTYPE=image/jpeg:https://visitlebanonky.com/wp-content/uploads/20
 25/10/fall-festival-1.jpg
CATEGORIES:Official
LOCATION:Gravel Switch Community Center\, 640 Gravel Switch Road\, Gravel S
 witch\, Kentucky\, 40328\, Marion County\, United States
GEO:37.579979;-85.05265
X-APPLE-STRUCTURED-LOCATION;VALUE=URI;X-ADDRESS=640 Gravel Switch Road\, Gr
 avel Switch\, Kentucky\, 40328\, Marion County\, United States;X-APPLE-RAD
 IUS=100;X-TITLE=Gravel Switch Community Center:geo:37.579979,-85.05265
END:VEVENT
BEGIN:VTIMEZONE
TZID:America/Kentucky/Louisville
X-LIC-LOCATION:America/Kentucky/Louisville
BEGIN:STANDARD
DTSTART:20251102T010000
TZOFFSETFROM:-0400
TZOFFSETTO:-0500
TZNAME:EST
END:STANDARD
END:VTIMEZONE
END:VCALENDAR