BEGIN:VCALENDAR
VERSION:2.0
PRODID:-//wp-events-plugin.com//7.2.3.1//EN
BEGIN:VEVENT
UID:8959@visitlebanonky.com
DTSTART;TZID=America/Kentucky/Louisville:20260329T160000
DTEND;TZID=America/Kentucky/Louisville:20260329T170000
DTSTAMP:20260306T181226Z
URL:https://visitlebanonky.com/events/gravel-switch-easter-egg-hunt-3/
SUMMARY:Gravel Switch Easter Egg Hunt
DESCRIPTION:
ATTACH;FMTTYPE=image/jpeg:https://visitlebanonky.com/wp-content/uploads/20
 26/03/GS-Easter-Egg-Hunt.jpg
CATEGORIES:Community
LOCATION:Gravel Switch Station Restaurant\, 880 Gravel Switch Road\, Gravel
  Switch\, Kentucky\, 40328\, Marion County\, United States
GEO:37.578995;-85.052251
X-APPLE-STRUCTURED-LOCATION;VALUE=URI;X-ADDRESS=880 Gravel Switch Road\, Gr
 avel Switch\, Kentucky\, 40328\, Marion County\, United States;X-APPLE-RAD
 IUS=100;X-TITLE=Gravel Switch Station Restaurant:geo:37.578995,-85.052251
END:VEVENT
BEGIN:VTIMEZONE
TZID:America/Kentucky/Louisville
X-LIC-LOCATION:America/Kentucky/Louisville
BEGIN:DAYLIGHT
DTSTART:20260308T030000
TZOFFSETFROM:-0500
TZOFFSETTO:-0400
TZNAME:EDT
END:DAYLIGHT
END:VTIMEZONE
END:VCALENDAR