BEGIN:VCALENDAR
VERSION:2.0
PRODID:-//wp-events-plugin.com//7.2.3.1//EN
BEGIN:VEVENT
UID:8115@visitlebanonky.com
DTSTART;TZID=America/Kentucky/Louisville:20251030T170000
DTEND;TZID=America/Kentucky/Louisville:20251030T190000
DTSTAMP:20251022T000222Z
URL:https://visitlebanonky.com/events/gravel-switch-station-trunk-or-treat
 /
SUMMARY:Gravel Switch Station Trunk or Treat
DESCRIPTION:Make plans to attend our Gravel Switch Station Trick or Treat!!
 !  On Thursday October 30th from 5:00 to 7:00pm we invite you to join us i
 n our parking lot to Trick or Treat!  Don’t have a trick or treater??  I
 t’s okay!  Bring your candy to hand out and join the fun!!  Decorating a
 nd costumes are encouraged but not required.  It will be spook-tacular!!
ATTACH;FMTTYPE=image/jpeg:https://visitlebanonky.com/wp-content/uploads/20
 25/10/gravel-switch-station.jpg
CATEGORIES:Community
LOCATION:Gravel Switch Station Restaurant\, 880 Gravel Switch Road\, Gravel
  Switch\, Kentucky\, 40328\, Marion County\, United States
GEO:37.578995;-85.052251
X-APPLE-STRUCTURED-LOCATION;VALUE=URI;X-ADDRESS=880 Gravel Switch Road\, Gr
 avel Switch\, Kentucky\, 40328\, Marion County\, United States;X-APPLE-RAD
 IUS=100;X-TITLE=Gravel Switch Station Restaurant:geo:37.578995,-85.052251
END:VEVENT
BEGIN:VTIMEZONE
TZID:America/Kentucky/Louisville
X-LIC-LOCATION:America/Kentucky/Louisville
BEGIN:DAYLIGHT
DTSTART:20250309T030000
TZOFFSETFROM:-0500
TZOFFSETTO:-0400
TZNAME:EDT
END:DAYLIGHT
END:VTIMEZONE
END:VCALENDAR