BEGIN:VCALENDAR
VERSION:2.0
PRODID:-//wp-events-plugin.com//7.2.3.1//EN
BEGIN:VEVENT
UID:8509@visitlebanonky.com
DTSTART;TZID=America/Kentucky/Louisville:20260425T100000
DTEND;TZID=America/Kentucky/Louisville:20260425T150000
DTSTAMP:20260105T193453Z
URL:https://visitlebanonky.com/events/green-festival-2/
SUMMARY:Green Festival
DESCRIPTION:Find the event on Facebook HERE\nNew Pioneers' 17th annual Gree
 n Festival is set for Saturday\, April 25th\, 2026\, from 10 am to 3 pm in
  downtown Springfield\, KY!\nMark your calendar for this family-friendly d
 ay featuring environmental organizations\, eco-friendly vendors\, hands-on
  activities\, entertainment\, food\, live animals\, and more!\nLearn more 
 about Green Festival and apply to be a volunteer\, vendor\, exhibitor\, or
  entertainer here: https://newpioneers.org/event/2026-green-festival/\nWe 
 are also excited to bring back our "Nature Photo Contest" alongside Green 
 Festival - open to ALL ages and artists!\nSimply submit your digital or pr
 inted photos/art of nature to New Pioneers by Wednesday\, April 22nd\, 202
 6\, for a chance to win!\nLearn more here: https://newpioneers.org/2026-na
 ture-photo-contest/ 
ATTACH;FMTTYPE=image/jpeg:https://visitlebanonky.com/wp-content/uploads/20
 26/01/green-festival.jpg
CATEGORIES:Official
LOCATION:Downtown Springfield\, North Cross Main Street\, Springfield\, Ken
 tucky\, 40069\, Washington County\, United States
GEO:37.685224;-85.221964
X-APPLE-STRUCTURED-LOCATION;VALUE=URI;X-ADDRESS=North Cross Main Street\, S
 pringfield\, Kentucky\, 40069\, Washington County\, United States;X-APPLE-
 RADIUS=100;X-TITLE=Downtown Springfield:geo:37.685224,-85.221964
END:VEVENT
BEGIN:VTIMEZONE
TZID:America/Kentucky/Louisville
X-LIC-LOCATION:America/Kentucky/Louisville
BEGIN:DAYLIGHT
DTSTART:20260308T030000
TZOFFSETFROM:-0500
TZOFFSETTO:-0400
TZNAME:EDT
END:DAYLIGHT
END:VTIMEZONE
END:VCALENDAR