BEGIN:VCALENDAR
VERSION:2.0
PRODID:-//wp-events-plugin.com//7.2.3.1//EN
BEGIN:VEVENT
UID:8105@visitlebanonky.com
DTSTART;TZID=America/Kentucky/Louisville:20251023T000000
DTEND;TZID=America/Kentucky/Louisville:20251026T000000
DTSTAMP:20251022T005334Z
URL:https://visitlebanonky.com/events/halloween-2/
SUMMARY:Halloween Events
DESCRIPTION:It's spooky season.  \n& October 22 6:30 p.m. Trunk or Treat at
  God's Hands Ministries\n* October 23\, 24 & 25 at 7 p.m. Into the Woods p
 lay at KY Classic Arts at Centre Square \n* October 24 5-7:30 p.m. Glassco
 ck Elementary Fall Festival \n* October 24 6-8 p.m. South Spalding Spectac
 ular Halloween\n* October 24 4 p.m. Chili supper fundraiser at Bradfordsvi
 lle Civic Center \n* October 25 2-7 pm. Loretto Motherhouse Haunted Trail 
 \n* October 25 Raywick Spaghetti Fundraiser at church 5-8 p.m. Halloween i
 n the Park 7-8 p.m.\n* October 26 1-3 p.m. Trick or Treat at Joe Community
  Center \n* October 29 5:30 - 7 p.m. Trunk or Treat at Woodlawn Baptist \n
 * October 29 5:30 - 7 p.m. Trunk or Treat at Lebanon Baptist \n* October 2
 9 6-8 p.m. Trunk or Treat at Muldraugh Hill Baptist Church\n* October 29 6
  p.m. Trunk or Treat\, chili cookoff\, costume contests Open Arms Communit
 y Church\n* October 30 5-7 p.m. Gravel Switch Station Trunk or Treat \n* O
 ctober 31 5-7 p.m. Trick or Treating in Bradfordsville \n* October 31 5:30
  - 7:30 p.m. Trick or Treating in Lebanon. \n* October 31 5:30 -8:30 p.m. 
 Loretto Fire Department Truck or Treat * October 31\, 2025 - 6 - 8:30 p.m.
  Kid Friendly Haunted House at Venue 68  \n\nFind these and other events a
 t www.visitlebanonky.com Ending times are approximate.
ATTACH;FMTTYPE=image/jpeg:https://visitlebanonky.com/wp-content/uploads/20
 25/10/trick-or-treat.jpg
CATEGORIES:Official
END:VEVENT
BEGIN:VTIMEZONE
TZID:America/Kentucky/Louisville
X-LIC-LOCATION:America/Kentucky/Louisville
BEGIN:DAYLIGHT
DTSTART:20250309T030000
TZOFFSETFROM:-0500
TZOFFSETTO:-0400
TZNAME:EDT
END:DAYLIGHT
END:VTIMEZONE
END:VCALENDAR