BEGIN:VCALENDAR
VERSION:2.0
PRODID:-//wp-events-plugin.com//7.2.3.1//EN
BEGIN:VEVENT
UID:8106@visitlebanonky.com
DTSTART;TZID=America/Kentucky/Louisville:20251029T000000
DTEND;TZID=America/Kentucky/Louisville:20251031T000000
DTSTAMP:20251022T005502Z
URL:https://visitlebanonky.com/events/halloween-3/
SUMMARY:Halloween Events
DESCRIPTION:It's spooky season.  \n* October 29 6 p.m. Trunk or Treat\, chi
 li cookoff\, costume contests Open Arms Community Church\n* October 29 5:3
 0 - 7 p.m. Trunk or Treat at Woodlawn Baptist \n* October 29 5:30 - 7 p.m.
  Trunk or Treat at Lebanon Baptist \n* October 29 6-8 p.m. Trunk or Treat 
 at Muldraugh Hill Baptist Church\n* October 30 5-7 p.m. Gravel Switch Stat
 ion Trunk or Treat \n* October 31 5-7 p.m. Trick or Treating in Bradfordsv
 ille \n* October 31 5:30 - 7:30 p.m. Trick or Treating in Lebanon. \n* Oct
 ober 31 5:30 -8:30 p.m. Loretto Fire Department Truck or Treat * October 3
 1\, 2025 - 6 - 8:30 p.m. Kid Friendly Haunted House at Venue 68  \n\nFind 
 these and other events at www.visitlebanonky.com Ending times are approxim
 ate.
ATTACH;FMTTYPE=image/jpeg:https://visitlebanonky.com/wp-content/uploads/20
 25/10/trick-or-treat.jpg
CATEGORIES:Official
END:VEVENT
BEGIN:VTIMEZONE
TZID:America/Kentucky/Louisville
X-LIC-LOCATION:America/Kentucky/Louisville
BEGIN:DAYLIGHT
DTSTART:20250309T030000
TZOFFSETFROM:-0500
TZOFFSETTO:-0400
TZNAME:EDT
END:DAYLIGHT
END:VTIMEZONE
END:VCALENDAR