BEGIN:VCALENDAR
VERSION:2.0
PRODID:-//wp-events-plugin.com//7.2.3.1//EN
BEGIN:VEVENT
UID:6327@visitlebanonky.com
DTSTART;TZID=America/Kentucky/Louisville:20241025T000000
DTEND;TZID=America/Kentucky/Louisville:20241025T000000
DTSTAMP:20241022T224526Z
URL:https://visitlebanonky.com/events/halloween-slumber-party-at-fit-kids-
 gymnastics/
SUMMARY:Halloween Slumber Party at Fit Kids Gymnastics
DESCRIPTION:Event by Fit Kids Gymnastics\n100 Warehouse Rd\, Lebanon\, KY 4
 0033-1847\, United States\, Lebanon\, KY\nDuration: 9 hr\nPublic  · Anyon
 e on or off Facebook\n👻🎃 Friday Oct 25th 7pm-9am
ATTACH;FMTTYPE=image/jpeg:https://visitlebanonky.com/wp-content/uploads/20
 24/10/fit-kids-sleepover.jpg
CATEGORIES:Community
LOCATION:Fit Kids\, 100 Warehouse Road\, Lebanon\, Kentucky\, 40033\, Mario
 n County\, United States
GEO:37.565101;-85.270278
X-APPLE-STRUCTURED-LOCATION;VALUE=URI;X-ADDRESS=100 Warehouse Road\, Lebano
 n\, Kentucky\, 40033\, Marion County\, United States;X-APPLE-RADIUS=100;X-
 TITLE=Fit Kids:geo:37.565101,-85.270278
END:VEVENT
BEGIN:VTIMEZONE
TZID:America/Kentucky/Louisville
X-LIC-LOCATION:America/Kentucky/Louisville
BEGIN:DAYLIGHT
DTSTART:20240310T030000
TZOFFSETFROM:-0500
TZOFFSETTO:-0400
TZNAME:EDT
END:DAYLIGHT
END:VTIMEZONE
END:VCALENDAR