BEGIN:VCALENDAR
VERSION:2.0
PRODID:-//wp-events-plugin.com//7.2.3.1//EN
BEGIN:VEVENT
UID:8104@visitlebanonky.com
DTSTART;TZID=America/Kentucky/Louisville:20251016T000000
DTEND;TZID=America/Kentucky/Louisville:20251018T000000
DTSTAMP:20251017T184139Z
URL:https://visitlebanonky.com/events/halloween/
SUMMARY:Halloween Events
DESCRIPTION:It's spooky season.  \n* October 16\, 17\, 18\, 23\, 24 & 25 at
  7 p.m. Into the Woods play at KY Classic Arts at Centre Square \n* Octobe
 r 17 & 18 at 7 p.m. and October 19 at 2 p.m. Young Frankenstein play at Ce
 ntral Ky Theatre in Springfield (Opera House)\n* October 17 Spooky Celebra
 tion at MC Event Center from 7-11:30 p.m. MCHS Grades 9-12). Fun\, free fo
 od\, door prizes.\nFun night with plenty of free food and door prizes!\n* 
 October 17\, 18\, 24\, 25\, 31 Haunted Forest at dark\, 1865 Hwy. 208.\n* 
 October 18 Halloween costume party at MC Sportsman's Club\n* October 18\, 
 3-5 p.m. Family Fellowship Prayer Center fall festival \n* October 18\, 5 
 p.m. A Night at the Races at Old Bradfordsville School \n* October 24 5-7:
 30 p.m. Glasscock Elementary Fall Festival \n* October 24 6-8 p.m. South S
 palding Spectacular Halloween\n* October 24 4 p.m. Chili supper fundraiser
  at Bradfordsville Civic Center \n* October 25 2-7 pm. Loretto Motherhouse
  Haunted Trail \n* October 25 Raywick Spaghetti Fundraiser at church 5-8 p
 .m. Halloween in the Park 7-8 p.m.\n* October 26 1-3 p.m. Trick or Treat a
 t Joe Community Center \n* October 29 5:30 - 7 p.m. Trunk or Treat at Wood
 lawn Baptist \n* October 29 5:30 - 7 p.m. Trunk or Treat at Lebanon Baptis
 t \n* October 29 6-8 p.m. Trunk or Treat at Muldraugh Hill Baptist Church\
 n* October 30 5-7 p.m. Gravel Switch Station Trunk or Treat \n* October 31
  5-7 p.m. Trick or Treating in Bradfordsville \n* October 31 5:30 - 7:30 p
 .m. Trick or Treating in Lebanon. \n* October 31 5:30 -8:30 p.m. Loretto F
 ire Department Truck or Treat * October 31\, 2025 - 6 - 8:30 p.m. Kid Frie
 ndly Haunted House at Venue 68  \n\nFind these and other events at www.vis
 itlebanonky.com Ending times are approximate.
ATTACH;FMTTYPE=image/jpeg:https://visitlebanonky.com/wp-content/uploads/20
 25/10/trick-or-treat.jpg
CATEGORIES:Community
END:VEVENT
BEGIN:VTIMEZONE
TZID:America/Kentucky/Louisville
X-LIC-LOCATION:America/Kentucky/Louisville
BEGIN:DAYLIGHT
DTSTART:20250309T030000
TZOFFSETFROM:-0500
TZOFFSETTO:-0400
TZNAME:EDT
END:DAYLIGHT
END:VTIMEZONE
END:VCALENDAR