BEGIN:VCALENDAR
VERSION:2.0
PRODID:-//wp-events-plugin.com//7.2.3.1//EN
BEGIN:VEVENT
UID:7603@visitlebanonky.com
DTSTART;TZID=America/Kentucky/Louisville:20250520T173000
DTEND;TZID=America/Kentucky/Louisville:20250520T190000
DTSTAMP:20250513T233337Z
URL:https://visitlebanonky.com/events/ham-days-planning-meeting-4/
SUMMARY:Ham Days Planning Meeting
DESCRIPTION:From the event on Facebook at https://www.facebook.com/mckycham
 ber\nJoin us next Tuesday for our May Ham Days Planning Meeting!🐷🐽\n
 We're getting ready for the 56th Marion County Country Ham Days — and we
 ’d love your input!🎉\n🕚When: Tuesday\, May 20th at 5:30 PM \n🏛
 ️Where: David R. Hourigan Building \n223 N Spalding Ave — 3rd Floor Co
 nference Room\nThese meetings are open to the public and your ideas can he
 lp make this year’s event the best one yet! Come be a part of the tradit
 ion we can’t wait to see you there!🎉
ATTACH;FMTTYPE=image/jpeg:https://visitlebanonky.com/wp-content/uploads/20
 25/05/ham-days.jpg
CATEGORIES:Community
LOCATION:David R. Hourigan Government Office Bldg.\, 223 N. Spalding Avenue
  3rd Floor\, Lebanon\, Kentucky\, 40033\, Marion County\, United States
GEO:37.571957;-85.253583
X-APPLE-STRUCTURED-LOCATION;VALUE=URI;X-ADDRESS=223 N. Spalding Avenue 3rd 
 Floor\, Lebanon\, Kentucky\, 40033\, Marion County\, United States;X-APPLE
 -RADIUS=100;X-TITLE=David R. Hourigan Government Office Bldg.:geo:37.57195
 7,-85.253583
END:VEVENT
BEGIN:VTIMEZONE
TZID:America/Kentucky/Louisville
X-LIC-LOCATION:America/Kentucky/Louisville
BEGIN:DAYLIGHT
DTSTART:20250309T030000
TZOFFSETFROM:-0500
TZOFFSETTO:-0400
TZNAME:EDT
END:DAYLIGHT
END:VTIMEZONE
END:VCALENDAR