BEGIN:VCALENDAR
VERSION:2.0
PRODID:-//wp-events-plugin.com//7.2.3.1//EN
BEGIN:VEVENT
UID:8889@visitlebanonky.com
DTSTART;TZID=America/Kentucky/Louisville:20261020T173000
DTEND;TZID=America/Kentucky/Louisville:20261020T190000
DTSTAMP:20260219T151059Z
URL:https://visitlebanonky.com/events/ham-days-planning-meetings-wrap-up/
SUMMARY:Ham Days Planning Meetings - Wrap Up
DESCRIPTION:It’s that time of year again! 🎉🐷\nIt takes a lot of tim
 e\, dedication\, and volunteers to pull off a successful festival!\nFrom F
 ebruary through October\, we’ll be hosting our monthly Ham Days meetings
 \, and they are open to the public. We invite you to join us! Come sit in 
 and learn what all Ham Days entails\, volunteer to help\, share new ideas\
 , and be part of the planning process. Let’s work together to make this 
 the best Ham Days ever!♥️\n🎉We’re also excited to announce that a
 ll meetings will be held at the Marion County Event Center & Sportsplex—
 a warm and welcoming place for everyone to gather!\nWe hope to see you the
 re!🐷\nFollow on Facebook HERE
ATTACH;FMTTYPE=image/jpeg:https://visitlebanonky.com/wp-content/uploads/20
 26/02/ham-days-meetings.jpg
CATEGORIES:Community
LOCATION:Marion County Event Center and Sportsplex\, 101 Independence Drive
  \, LEBANON\, KY\, 40033\, Marion County\, United States
X-APPLE-STRUCTURED-LOCATION;VALUE=URI;X-ADDRESS=101 Independence Drive \, L
 EBANON\, KY\, 40033\, Marion County\, United States;X-APPLE-RADIUS=100;X-T
 ITLE=Marion County Event Center and Sportsplex:geo:0,0
END:VEVENT
BEGIN:VTIMEZONE
TZID:America/Kentucky/Louisville
X-LIC-LOCATION:America/Kentucky/Louisville
BEGIN:DAYLIGHT
DTSTART:20260308T030000
TZOFFSETFROM:-0500
TZOFFSETTO:-0400
TZNAME:EDT
END:DAYLIGHT
END:VTIMEZONE
END:VCALENDAR