BEGIN:VCALENDAR
VERSION:2.0
PRODID:-//wp-events-plugin.com//7.2.3.1//EN
BEGIN:VEVENT
UID:7870@visitlebanonky.com
DTSTART;TZID=America/Kentucky/Louisville:20250811T000000
DTEND;TZID=America/Kentucky/Louisville:20250919T000000
DTSTAMP:20250811T184449Z
URL:https://visitlebanonky.com/events/ham-days-window-decorating-contest/
SUMMARY:Ham Days Window Decorating Contest
DESCRIPTION:We’re excited to announce the return of the Ham Days Window D
 ecorating Contest — and this year\, it’s bigger and better with two ca
 tegories to enter!\nProfessionally Decorated Window for windows designed b
 y a paid artist or decorator.\nDIY Decorated Window for those decorated by
  you or your business team — show off your creativity.\nOne winner from 
 each category will receive $100.\nImportant Details: Have your window deco
 rated by September 19\, 2025. Be sure to fill out the entry form so we don
 ’t miss your masterpiece:\nhttps://forms.gle/nzFHM3rHJ7nzfngM6 . Your wi
 ndow does NOT need to be in downtown Lebanon — all businesses are welcom
 e to join in the fun.\nThank you to our generous sponsor\, Steve Schwarz\,
  for making this contest possible. Let’s make the town shine for the 56t
 h Marion County Country Ham Days.
ATTACH;FMTTYPE=image/jpeg:https://visitlebanonky.com/wp-content/uploads/20
 25/08/window-decorating.jpg
CATEGORIES:Official
END:VEVENT
BEGIN:VTIMEZONE
TZID:America/Kentucky/Louisville
X-LIC-LOCATION:America/Kentucky/Louisville
BEGIN:DAYLIGHT
DTSTART:20250309T030000
TZOFFSETFROM:-0500
TZOFFSETTO:-0400
TZNAME:EDT
END:DAYLIGHT
END:VTIMEZONE
END:VCALENDAR