BEGIN:VCALENDAR
VERSION:2.0
PRODID:-//wp-events-plugin.com//7.2.3.1//EN
BEGIN:VEVENT
UID:8688@visitlebanonky.com
DTSTART;TZID=America/Kentucky/Louisville:20260204T000000
DTEND;TZID=America/Kentucky/Louisville:20260208T000000
DTSTAMP:20260202T222112Z
URL:https://visitlebanonky.com/events/happening-in-nearby-springfield-ky/
SUMMARY:Happening in nearby Springfield\, KY
DESCRIPTION:
ATTACH;FMTTYPE=image/jpeg:https://visitlebanonky.com/wp-content/uploads/20
 26/02/SFIELD-CALENDAR.png
CATEGORIES:Community
LOCATION:Springfield Main Street\, Springfield Main Street\, Springfield\, 
 Kentucky\, 40069\, Washington County\, United States
X-APPLE-STRUCTURED-LOCATION;VALUE=URI;X-ADDRESS=Springfield Main Street\, S
 pringfield\, Kentucky\, 40069\, Washington County\, United States;X-APPLE-
 RADIUS=100;X-TITLE=Springfield Main Street:geo:0,0
END:VEVENT
BEGIN:VTIMEZONE
TZID:America/Kentucky/Louisville
X-LIC-LOCATION:America/Kentucky/Louisville
BEGIN:STANDARD
DTSTART:20251102T010000
TZOFFSETFROM:-0400
TZOFFSETTO:-0500
TZNAME:EST
END:STANDARD
END:VTIMEZONE
END:VCALENDAR