BEGIN:VCALENDAR
VERSION:2.0
PRODID:-//wp-events-plugin.com//7.2.3.1//EN
BEGIN:VEVENT
UID:8626@visitlebanonky.com
DTSTART;TZID=America/Kentucky/Louisville:20260114T111500
DTEND;TZID=America/Kentucky/Louisville:20260114T120000
DTSTAMP:20260113T191614Z
URL:https://visitlebanonky.com/events/healthy-aging-presentation/
SUMMARY:Healthy Aging Presentation
DESCRIPTION:KORT Lebanon is providing an educational series at the Marion C
 ounty Public Library.\nThis session will cover healthy aging\, including h
 ow to maintain your functional strength and mobility as you get older.\nA 
 light lunch will be provided.\n\nYou can find this event on Facebook HERE
ATTACH;FMTTYPE=image/jpeg:https://visitlebanonky.com/wp-content/uploads/20
 26/01/kort-healthy-aging.jpg
CATEGORIES:Community
LOCATION:Marion County Public Library\, 201 E Main St\, Lebanon\, KY/Marion
 \, 40033\, Marion County\, United States
X-APPLE-STRUCTURED-LOCATION;VALUE=URI;X-ADDRESS=201 E Main St\, Lebanon\, K
 Y/Marion\, 40033\, Marion County\, United States;X-APPLE-RADIUS=100;X-TITL
 E=Marion County Public Library:geo:0,0
END:VEVENT
BEGIN:VTIMEZONE
TZID:America/Kentucky/Louisville
X-LIC-LOCATION:America/Kentucky/Louisville
BEGIN:STANDARD
DTSTART:20251102T010000
TZOFFSETFROM:-0400
TZOFFSETTO:-0500
TZNAME:EST
END:STANDARD
END:VTIMEZONE
END:VCALENDAR