BEGIN:VCALENDAR
VERSION:2.0
PRODID:-//wp-events-plugin.com//7.2.3.1//EN
BEGIN:VEVENT
UID:9210@visitlebanonky.com
DTSTART;TZID=America/Kentucky/Louisville:20260829T000000
DTEND;TZID=America/Kentucky/Louisville:20260829T000000
DTSTAMP:20260420T215939Z
URL:https://visitlebanonky.com/events/hempstock-music-festival-3/
SUMMARY:Hempstock Music Festival
DESCRIPTION: Look for more details on Facebook HERE\n\n
ATTACH;FMTTYPE=image/jpeg:https://visitlebanonky.com/wp-content/uploads/20
 26/04/hempstock.jpg
CATEGORIES:Official
LOCATION:Bickett Farm\, 1069 JE BICKETT RD\, Raywick\, Kentucky\, 40060\, M
 arion County\, United States
GEO:37.554333;-85.412911
X-APPLE-STRUCTURED-LOCATION;VALUE=URI;X-ADDRESS=1069 JE BICKETT RD\, Raywic
 k\, Kentucky\, 40060\, Marion County\, United States;X-APPLE-RADIUS=100;X-
 TITLE=Bickett Farm:geo:37.554333,-85.412911
END:VEVENT
BEGIN:VTIMEZONE
TZID:America/Kentucky/Louisville
X-LIC-LOCATION:America/Kentucky/Louisville
BEGIN:DAYLIGHT
DTSTART:20260308T030000
TZOFFSETFROM:-0500
TZOFFSETTO:-0400
TZNAME:EDT
END:DAYLIGHT
END:VTIMEZONE
END:VCALENDAR