BEGIN:VCALENDAR
VERSION:2.0
PRODID:-//wp-events-plugin.com//7.2.3.1//EN
BEGIN:VEVENT
UID:6593@visitlebanonky.com
DTSTART;TZID=America/Kentucky/Louisville:20241211T180000
DTEND;TZID=America/Kentucky/Louisville:20241211T210000
DTSTAMP:20241209T203126Z
URL:https://visitlebanonky.com/events/holiday-charcuterie-workshop/
SUMMARY:Holiday Charcuterie Workshop
DESCRIPTION:Join us for a hands-on workshop\, sip on a cup of Holiday Hot C
 hocolate and learn to create a holiday charcuterie board. Embrace the holi
 day spirit by spending an evening full of creativity and taste. During the
  workshop you will learn holiday charcuterie tips/tricks and create your o
 wn beautiful centerpiece for your holiday gathering\nCall today and regist
 er because spots are limited! (270) 692-2421\n\nYou can find this event on
  Facebook at https://www.facebook.com/share/HcemBcvqsf8THxvP/
ATTACH;FMTTYPE=image/jpeg:https://visitlebanonky.com/wp-content/uploads/20
 24/12/char.jpg
CATEGORIES:Community
LOCATION:Marion County Cooperative Extension Office\, 416 Fairgrounds Road\
 , Lebanon\, KY/Marion\, 40033\, United States
X-APPLE-STRUCTURED-LOCATION;VALUE=URI;X-ADDRESS=416 Fairgrounds Road\, Leba
 non\, KY/Marion\, 40033\, United States;X-APPLE-RADIUS=100;X-TITLE=Marion 
 County Cooperative Extension Office:geo:0,0
END:VEVENT
BEGIN:VTIMEZONE
TZID:America/Kentucky/Louisville
X-LIC-LOCATION:America/Kentucky/Louisville
BEGIN:STANDARD
DTSTART:20241103T010000
TZOFFSETFROM:-0400
TZOFFSETTO:-0500
TZNAME:EST
END:STANDARD
END:VTIMEZONE
END:VCALENDAR