BEGIN:VCALENDAR
VERSION:2.0
PRODID:-//wp-events-plugin.com//7.2.3.1//EN
BEGIN:VEVENT
UID:8139@visitlebanonky.com
DTSTART;TZID=America/Kentucky/Louisville:20251107T000000
DTEND;TZID=America/Kentucky/Louisville:20251108T000000
DTSTAMP:20251107T004555Z
URL:https://visitlebanonky.com/events/holiday-market-at-venue-68/
SUMMARY:Holiday Market at Venue 68
DESCRIPTION:Find information about the vendors on the Venue 68 Facebook HER
 E
ATTACH;FMTTYPE=image/jpeg:https://visitlebanonky.com/wp-content/uploads/20
 25/10/holiday-market.jpg
CATEGORIES:Official
LOCATION:Venue 68\, 212 W Main St\, Lebanon\, KY/Marion\, 40033\, United St
 ates
X-APPLE-STRUCTURED-LOCATION;VALUE=URI;X-ADDRESS=212 W Main St\, Lebanon\, K
 Y/Marion\, 40033\, United States;X-APPLE-RADIUS=100;X-TITLE=Venue 68:geo:0
 ,0
END:VEVENT
BEGIN:VTIMEZONE
TZID:America/Kentucky/Louisville
X-LIC-LOCATION:America/Kentucky/Louisville
BEGIN:STANDARD
DTSTART:20251102T010000
TZOFFSETFROM:-0400
TZOFFSETTO:-0500
TZNAME:EST
END:STANDARD
END:VTIMEZONE
END:VCALENDAR