BEGIN:VCALENDAR
VERSION:2.0
PRODID:-//wp-events-plugin.com//7.2.3.1//EN
BEGIN:VEVENT
UID:8250@visitlebanonky.com
DTSTART;TZID=America/Kentucky/Louisville:20251107T000000
DTEND;TZID=America/Kentucky/Louisville:20251108T000000
DTSTAMP:20251107T011549Z
URL:https://visitlebanonky.com/events/holiday-open-houses-2/
SUMMARY:Holiday Open Houses - List 1
DESCRIPTION:Holiday Open Houses at Lebanon businesses will be held Friday\,
  November 7 and Saturday\, November 8. Be sure to check all the local busi
 nesses for specifics for their locations. Thanks to Aubri at the chamber f
 or the list.
ATTACH;FMTTYPE=image/jpeg:https://visitlebanonky.com/wp-content/uploads/20
 25/11/open-house-1.jpg
CATEGORIES:Official
LOCATION:Lebanon Businesses\, Lebanon\, Lebanon\, KY\, 40033\, Marion Count
 y\, United States
X-APPLE-STRUCTURED-LOCATION;VALUE=URI;X-ADDRESS=Lebanon\, Lebanon\, KY\, 40
 033\, Marion County\, United States;X-APPLE-RADIUS=100;X-TITLE=Lebanon Bus
 inesses:geo:0,0
END:VEVENT
BEGIN:VTIMEZONE
TZID:America/Kentucky/Louisville
X-LIC-LOCATION:America/Kentucky/Louisville
BEGIN:STANDARD
DTSTART:20251102T010000
TZOFFSETFROM:-0400
TZOFFSETTO:-0500
TZNAME:EST
END:STANDARD
END:VTIMEZONE
END:VCALENDAR