BEGIN:VCALENDAR
VERSION:2.0
PRODID:-//wp-events-plugin.com//7.2.3.1//EN
BEGIN:VEVENT
UID:6309@visitlebanonky.com
DTSTART;TZID=America/Kentucky/Louisville;VALUE=DATE:20241101
DTEND;TZID=America/Kentucky/Louisville;VALUE=DATE:20241103
DTSTAMP:20241024T144212Z
URL:https://visitlebanonky.com/events/holiday-open-houses-3/
SUMMARY:Holiday Open Houses
DESCRIPTION:Downtown Lebanon will kick off the holiday shopping season with
  their annual Holiday Open Houses on November 1 and 2. Shop all the downto
 wn stores as well as those reaching beyond the downtown. Most will open at
  5 p.m. on Friday and continue until midday on Saturday but some will be o
 pen earlier in the week and later in the day. You can expect to find givea
 ways\, discounts\, refreshments and your holiday spirit.\n\nAnd don’t go
  home hungry\, Lebanon offers a variety of restaurants to have a nice meal
 \, drinks or both.\n\nIf you scroll to our community section of the calend
 ar we will list some of the individual Open House information that has bee
 n submitted. There are several locations offering groups of vendors all in
  one location. You'll find those in the community section of this calendar
 . \n\n\n 
ATTACH;FMTTYPE=image/jpeg:https://visitlebanonky.com/wp-content/uploads/20
 24/10/holiday-open-houses.jpg
CATEGORIES:Official
LOCATION:Downtown Lebanon and beyond\, Main St\, Lebanon\, KY/Marion \, 400
 33\, Marion County \, United States
X-APPLE-STRUCTURED-LOCATION;VALUE=URI;X-ADDRESS=Main St\, Lebanon\, KY/Mari
 on \, 40033\, Marion County \, United States;X-APPLE-RADIUS=100;X-TITLE=Do
 wntown Lebanon and beyond:geo:0,0
END:VEVENT
BEGIN:VTIMEZONE
TZID:America/Kentucky/Louisville
X-LIC-LOCATION:America/Kentucky/Louisville
BEGIN:DAYLIGHT
DTSTART:20240310T030000
TZOFFSETFROM:-0500
TZOFFSETTO:-0400
TZNAME:EDT
END:DAYLIGHT
END:VTIMEZONE
END:VCALENDAR