BEGIN:VCALENDAR
VERSION:2.0
PRODID:-//wp-events-plugin.com//7.2.3.1//EN
BEGIN:VEVENT
UID:8184@visitlebanonky.com
DTSTART;TZID=America/Kentucky/Louisville:20251122T000000
DTEND;TZID=America/Kentucky/Louisville:20251122T000000
DTSTAMP:20251105T053729Z
URL:https://visitlebanonky.com/events/holistic-health-womens-retreat/
SUMMARY:Holistic Health Women's Retreat
DESCRIPTION:•Reconnect\, Unwind\, Reset\n•Nature walk\, grounding\, hol
 istic body movement\, emotional balancing\, mindfulness practices\, wellne
 ss discussions with a health professional & more!\n•Zyto BioScan: non-in
 vasive health assessment that checks 200 biomarkers\n**scan can be schedul
 ed for a later date\n•Camp fire\, s’mores & hot cocoa\n•Light refres
 hments & soup will be served\n•Hosted by Victoria Paige photography\, Wo
 odland Wonders Forest School\, and Holistic Pathways Health & Wellness\n
 •Nov 22 • 4-9pm\n•At Woodland Wonders Barn in Springfield\,Ky\n$100-
 cash\, card\, Venmo\, PayPal\nEmail holisticpathways.team@gmail.com to reg
 ister or call (270)699-0102 \nYou can find the event page on Facebook HERE
ATTACH;FMTTYPE=image/jpeg:https://visitlebanonky.com/wp-content/uploads/20
 25/11/holistic.jpg
CATEGORIES:Community
LOCATION:Woodland Wonders\, 2936 Booker Road\, Springfield\, Kentucky\, 400
 69\, Washington County\, United States
GEO:37.660997;-85.267907
X-APPLE-STRUCTURED-LOCATION;VALUE=URI;X-ADDRESS=2936 Booker Road\, Springfi
 eld\, Kentucky\, 40069\, Washington County\, United States;X-APPLE-RADIUS=
 100;X-TITLE=Woodland Wonders:geo:37.660997,-85.267907
END:VEVENT
BEGIN:VTIMEZONE
TZID:America/Kentucky/Louisville
X-LIC-LOCATION:America/Kentucky/Louisville
BEGIN:STANDARD
DTSTART:20251102T010000
TZOFFSETFROM:-0400
TZOFFSETTO:-0500
TZNAME:EST
END:STANDARD
END:VTIMEZONE
END:VCALENDAR