BEGIN:VCALENDAR
VERSION:2.0
PRODID:-//wp-events-plugin.com//7.2.3.1//EN
BEGIN:VEVENT
UID:8116@visitlebanonky.com
DTSTART;TZID=America/Kentucky/Louisville:20251115T163000
DTEND;TZID=America/Kentucky/Louisville:20251115T193000
DTSTAMP:20251015T153024Z
URL:https://visitlebanonky.com/events/holy-name-of-mary-chili-supper-and-s
 ocial/
SUMMARY:Holy Name of Mary Chili Supper and Social
DESCRIPTION:Save the date: November 15\, HNM is excited to announce we will
  host a new annual event for our parish and community: The Holy Name of Ma
 ry Chili Supper and Social! See a parishioner for your raffle tickets and 
 follow their page on Facebook for updates and the online silent auction at
  https://www.facebook.com/groups/386727789345232 . Please share and spread
  the word about this amazing family event.
ATTACH;FMTTYPE=image/jpeg:https://visitlebanonky.com/wp-content/uploads/20
 25/10/hnm-chili-e1760542530286.jpg
CATEGORIES:Community
LOCATION:Holy Name of Mary Catholic Church parish hall\, 3295 New Calvary R
 oad\, LEBANON/ CALVARY\, KY/MARION\, 40033\, Marion County\, United States
X-APPLE-STRUCTURED-LOCATION;VALUE=URI;X-ADDRESS=3295 New Calvary Road\, LEB
 ANON/ CALVARY\, KY/MARION\, 40033\, Marion County\, United States;X-APPLE-
 RADIUS=100;X-TITLE=Holy Name of Mary Catholic Church parish hall:geo:0,0
END:VEVENT
BEGIN:VTIMEZONE
TZID:America/Kentucky/Louisville
X-LIC-LOCATION:America/Kentucky/Louisville
BEGIN:STANDARD
DTSTART:20251102T010000
TZOFFSETFROM:-0400
TZOFFSETTO:-0500
TZNAME:EST
END:STANDARD
END:VTIMEZONE
END:VCALENDAR